BEGIN:VCALENDAR
VERSION:2.0
PRODID:-//ChamberMaster//Event Calendar 2.0//EN
METHOD:PUBLISH
X-PUBLISHED-TTL:P3D
REFRESH-INTERVAL:P3D
CALSCALE:GREGORIAN
BEGIN:VEVENT
DTSTART:20260504T170000Z
DTEND:20260504T200000Z
X-MICROSOFT-CDO-ALLDAYEVENT:FALSE
SUMMARY:Indigenous Leadership in Business Luncheon
DESCRIPTION:Get ready for an inspiring luncheon celebrating Indigenous leaders making waves in the business world. Connect\, learn\, and share stories. Don't miss this chance to gain insights\, network\, and empower your entrepreneurial spirit with some amazing voices leading the way.\n\nJoin us in Saskatoon\, and be part of a powerful conversation that showcases the strength and innovation of Indigenous business leaders!\n\nCCIB Lifetime Achievement Award recipient and Des Nedhe President & CEO Sean Willy\, will share insights from gained from his impressive career.
X-ALT-DESC;FMTTYPE=text/html:<p style="box-sizing: border-box\; padding: 0px 0px 12px\; margin: 12px 0px 0px\; color: rgb(88\, 81\, 99)\; font-family: &quot\;Neue Plak&quot\;\, -apple-system\, BlinkMacSystemFont\, Roboto\, &quot\;Helvetica Neue&quot\;\, Helvetica\, Tahoma\, Arial\, sans-serif\; font-size: 18px\; letter-spacing: 0.1px\;">Get ready for an inspiring luncheon celebrating Indigenous leaders making waves in the business world. Connect\, learn\, and share stories. Don&rsquo\;t miss this chance to gain insights\, network\, and empower your entrepreneurial spirit with some amazing voices leading the way.</p>\n\n<p style="box-sizing: border-box\; padding: 0px 0px 12px\; margin: 12px 0px 0px\; color: rgb(88\, 81\, 99)\; font-family: &quot\;Neue Plak&quot\;\, -apple-system\, BlinkMacSystemFont\, Roboto\, &quot\;Helvetica Neue&quot\;\, Helvetica\, Tahoma\, Arial\, sans-serif\; font-size: 18px\; letter-spacing: 0.1px\;">Join us in Saskatoon\, and be part of a powerful conversation that showcases the strength and innovation of Indigenous business leaders!</p>\n\n<p style="box-sizing: border-box\; padding: 0px 0px 12px\; margin: 12px 0px 0px\; color: rgb(88\, 81\, 99)\; font-family: &quot\;Neue Plak&quot\;\, -apple-system\, BlinkMacSystemFont\, Roboto\, &quot\;Helvetica Neue&quot\;\, Helvetica\, Tahoma\, Arial\, sans-serif\; font-size: 18px\; letter-spacing: 0.1px\;">CCIB Lifetime Achievement Award recipient and Des Nedhe President &amp\; CEO Sean Willy\, will share insights from gained from his impressive career.</p>\n
LOCATION:Hilton Garden Inn Saskatoon Downtown\, Saskatoon\, SK
UID:e.3620.11
SEQUENCE:3
DTSTAMP:20260422T013337Z
URL:https://business.iccsask.ca/events/details/indigenous-leadership-in-business-luncheon-11
END:VEVENT

END:VCALENDAR
